BEGIN:VCALENDAR
VERSION:2.0
PRODID:-//ALFILM Festival//Film Festival Manager//EN
CALSCALE:GREGORIAN
METHOD:PUBLISH
BEGIN:VEVENT
UID:ffm-film-8556-screening-0@alfilm.berlin
DTSTAMP:20260421T082354Z
DTSTART:20260422T190000Z
DTEND:20260422T210000Z
SUMMARY:فلسطين ٣٦ — ALFILM Festival
DESCRIPTION:روائي، إخراج آن ماري جاسر، فلسطين/ المملكة المتحدة/ الولايات المتحدة الأمريكية/ فرنسا/ قطر، ٢٠٢٥، ١١٥ دقيقة، عربي/عبري/انجليزي مع ترجمة إنجليزية.\nALFILM Festival\nhttps://alfilm.berlin/ar/program/palestine-36/\nhttps://maps.app.goo.gl/vG3xDe1uwgc2zsBQ7
LOCATION:HAU Hebbel am Ufer (HAU1)\, Stresemannstraße 29\, 10963 Berlin
URL:https://alfilm.berlin/ar/program/palestine-36/
END:VEVENT
END:VCALENDAR
