BEGIN:VCALENDAR
VERSION:2.0
PRODID:-//ALFILM Festival//Film Festival Manager//EN
CALSCALE:GREGORIAN
METHOD:PUBLISH
BEGIN:VEVENT
UID:ffm-film-8569-screening-0@alfilm.berlin
DTSTAMP:20260421T082713Z
DTSTART:20260423T200000Z
DTEND:20260423T220000Z
SUMMARY:لمن أتين قبلنا — ALFILM Festival
DESCRIPTION:وثائقي، إخراج: محمد عبدوني، لبنان، ٢٠٢٥، ٧٦ دقيقة، عربي مع ترجمة إنجليزية.\nALFILM Festival\nhttps://alfilm.berlin/ar/program/treat-me-like-your-mother/\nhttps://maps.app.goo.gl/8QjyvUJ7TFBZqLex8
LOCATION:CineStar Kino at the KulturBrauerei\, Schönhauser Allee 36\, 10435 Berlin
URL:https://alfilm.berlin/ar/program/treat-me-like-your-mother/
END:VEVENT
END:VCALENDAR
