BEGIN:VCALENDAR
VERSION:2.0
PRODID:-//ALFILM Festival//Film Festival Manager//EN
CALSCALE:GREGORIAN
METHOD:PUBLISH
BEGIN:VEVENT
UID:ffm-film-8593-screening-0@alfilm.berlin
DTSTAMP:20260421T082504Z
DTSTART:20260423T210000Z
DTEND:20260423T230000Z
SUMMARY:كولونيا — ALFILM Festival
DESCRIPTION:روائي، المخرج: محمد صيام، مصر/ السعودية/ قطر/ فرنسا/ النرويج/ السويد، ٢٠٢٥، ٩٦ دقيقة، بالعربية مغ ترجمة إنجليزية\nALFILM Festival\nhttps://alfilm.berlin/ar/program/my-fathers-scent/\nhttps://maps.app.goo.gl/i1vy42uTPTVZfheU6
LOCATION:City Kino Wedding\, Müllerstraße 74\, 13349 Berlin
URL:https://alfilm.berlin/ar/program/my-fathers-scent/
END:VEVENT
END:VCALENDAR
